BEGIN:VCALENDAR
VERSION:2.0
PRODID:-//Google ICS Calendar Custom//NL//
BEGIN:VEVENT
UID:5cpq2hmceiebao2m6dnku0308e@google.com
DTSTAMP:20260421T110011Z
DTSTART:20260419T110000Z
DTEND:20260419T150000Z
SUMMARY:ABG Korendag
DESCRIPTION:TYPE: Meerdere podia / gezamenlijke optredens\nLOCATIE: Binnen\nREGIO: Noord-Brabant\nPLAATS: Baarle-Nassau\nMUZIEK: Gemengd koor\, vocaal\,diverse stijlen  \n260 zangers zorgen voor muzikaal megafeest inhet CultuurCentrum\nBaarle-Nassau maakt zich op voor een bijzondere muzikale gebeurtenis: de ABG Korendag van de ABG-gemeenten. Op zondag worden maar liefst 260 zangers uit Alphen-Chaam\, Baarle-Nassau\, Ulicoten en Gilze-Rijen verwacht voor een groots korenfestival. De samenwerking tussen deze dorpen is al lang een feit\, maar een gezamenlijk festival van deze omvang is uniek in de regio.\nHet festival vindt plaats in het CultuurCentrumaan de Pastoor De Katerstraat 7\, waar zeven koren hun repertoire laten horen. Het bijzondere is dat de dag wordt geopend met een speciaal geschrevenlied\, gezongen door alle koorleden samen op de welbekende melodie van 'Het Dorp' van Wim Sonneveld. Elk couplet van het lied bezingt een van de deelnemende dorpen\, waardoor het publiek meteen meegenomen wordt in de lokale sfeer en verbondenheid.
LOCATION:Pastoor de Katerstraat 7\, 2387 Baarle-Nassau\, België
END:VEVENT
END:VCALENDAR
